BEGIN:VCALENDAR
VERSION:2.0
PRODID:-//River Valley Church - ECPv4.9.9//NONSGML v1.0//EN
CALSCALE:GREGORIAN
METHOD:PUBLISH
X-WR-CALNAME:River Valley Church
X-ORIGINAL-URL:https://rivervalleycommunitychurch.ca
X-WR-CALDESC:Events for River Valley Church
BEGIN:VTIMEZONE
TZID:UTC
BEGIN:STANDARD
TZOFFSETFROM:+0000
TZOFFSETTO:+0000
TZNAME:UTC
DTSTART:20200101T000000
END:STANDARD
END:VTIMEZONE
BEGIN:VEVENT
DTSTART;TZID=UTC:20201224T190000
DTEND;TZID=UTC:20201224T203000
DTSTAMP:20260423T103342
CREATED:20201202T163507Z
LAST-MODIFIED:20201230T164815Z
UID:6177-1608836400-1608841800@rivervalleycommunitychurch.ca
SUMMARY:Christmas Eve Service
DESCRIPTION:Please contact the church office (403)504-0123 to reserve your spot for this service due to limited capacity restrictions. \nThank you \nClick here to view this service. \n
URL:https://rivervalleycommunitychurch.ca/event/christmas-eve-service/
END:VEVENT
END:VCALENDAR