BEGIN:VCALENDAR
VERSION:2.0
PRODID:-//River Valley Church - ECPv4.9.9//NONSGML v1.0//EN
CALSCALE:GREGORIAN
METHOD:PUBLISH
X-WR-CALNAME:River Valley Church
X-ORIGINAL-URL:https://rivervalleycommunitychurch.ca
X-WR-CALDESC:Events for River Valley Church
BEGIN:VTIMEZONE
TZID:UTC
BEGIN:STANDARD
TZOFFSETFROM:+0000
TZOFFSETTO:+0000
TZNAME:UTC
DTSTART:20260101T000000
END:STANDARD
END:VTIMEZONE
BEGIN:VEVENT
DTSTART;TZID=UTC:20260121T190000
DTEND;TZID=UTC:20260121T210000
DTSTAMP:20260422T103020
CREATED:20251217T165751Z
LAST-MODIFIED:20251217T165751Z
UID:9927-1769022000-1769029200@rivervalleycommunitychurch.ca
SUMMARY:EQUIP
DESCRIPTION:Discipleship Training Program designed to equip you with practical tools and biblical principles to make disciples who make disciples. \nSIGN UP AT GUEST SERVICES \n
URL:https://rivervalleycommunitychurch.ca/event/equip/
END:VEVENT
END:VCALENDAR