BEGIN:VCALENDAR
VERSION:2.0
PRODID:-//River Valley Church - ECPv4.9.9//NONSGML v1.0//EN
CALSCALE:GREGORIAN
METHOD:PUBLISH
X-WR-CALNAME:River Valley Church
X-ORIGINAL-URL:https://rivervalleycommunitychurch.ca
X-WR-CALDESC:Events for River Valley Church
BEGIN:VTIMEZONE
TZID:UTC
BEGIN:STANDARD
TZOFFSETFROM:+0000
TZOFFSETTO:+0000
TZNAME:UTC
DTSTART:20240101T000000
END:STANDARD
END:VTIMEZONE
BEGIN:VEVENT
DTSTART;TZID=UTC:20241103T090000
DTEND;TZID=UTC:20241103T101000
DTSTAMP:20260422T014512
CREATED:20241004T154311Z
LAST-MODIFIED:20241004T154311Z
UID:8961-1730624400-1730628600@rivervalleycommunitychurch.ca
SUMMARY:Journey of a Lifetime
DESCRIPTION:Join us Sunday mornings as we learn about the Bible\, Genesis to Revelation\, in a detailed teaching series that brings people and places of the Bible to life! \nInvite a Friend! Everyone welcome. \nWe encourage you to sign up by contacting the church office. (403) 504-0123 \n
URL:https://rivervalleycommunitychurch.ca/event/journey-of-a-lifetime-2-2-2-2-2-2/
END:VEVENT
END:VCALENDAR