BEGIN:VCALENDAR
VERSION:2.0
PRODID:-//River Valley Church - ECPv4.9.9//NONSGML v1.0//EN
CALSCALE:GREGORIAN
METHOD:PUBLISH
X-WR-CALNAME:River Valley Church
X-ORIGINAL-URL:https://rivervalleycommunitychurch.ca
X-WR-CALDESC:Events for River Valley Church
BEGIN:VTIMEZONE
TZID:UTC
BEGIN:STANDARD
TZOFFSETFROM:+0000
TZOFFSETTO:+0000
TZNAME:UTC
DTSTART:20260101T000000
END:STANDARD
END:VTIMEZONE
BEGIN:VEVENT
DTSTART;TZID=UTC:20260125T120000
DTEND;TZID=UTC:20260125T133000
DTSTAMP:20260423T113514
CREATED:20260109T164626Z
LAST-MODIFIED:20260109T164626Z
UID:9963-1769342400-1769347800@rivervalleycommunitychurch.ca
SUMMARY:Meet and Greet Lunch
DESCRIPTION:Would you like to learn more about RVCC? Our Leadership Team would love to meet you for a light lunch following the morning service. \nRSVP by signing up at Guest Service or contact the Church Office 403-504-0123 \n
URL:https://rivervalleycommunitychurch.ca/event/meet-and-greet-lunch/
ATTACH;FMTTYPE=image/jpeg:https://rivervalleycommunitychurch.ca/wp-content/uploads/2026/01/11-19-Meet-and-Greet-scaled.jpg
END:VEVENT
END:VCALENDAR