BEGIN:VCALENDAR
VERSION:2.0
PRODID:-//River Valley Church - ECPv4.9.9//NONSGML v1.0//EN
CALSCALE:GREGORIAN
METHOD:PUBLISH
X-WR-CALNAME:River Valley Church
X-ORIGINAL-URL:https://rivervalleycommunitychurch.ca
X-WR-CALDESC:Events for River Valley Church
BEGIN:VTIMEZONE
TZID:UTC
BEGIN:STANDARD
TZOFFSETFROM:+0000
TZOFFSETTO:+0000
TZNAME:UTC
DTSTART:20260101T000000
END:STANDARD
END:VTIMEZONE
BEGIN:VEVENT
DTSTART;TZID=UTC:20260114T184500
DTEND;TZID=UTC:20260114T210000
DTSTAMP:20260424T104115
CREATED:20251205T165340Z
LAST-MODIFIED:20260109T164405Z
UID:9896-1768416300-1768424400@rivervalleycommunitychurch.ca
SUMMARY:NO RVCC Young Adults
DESCRIPTION:For more information contact: Aaron or Sherry Brost OR call the church office 403-504-0123 \n
URL:https://rivervalleycommunitychurch.ca/event/rvcc-young-adults-2-2-2-2-2-2-2-2-2-2-3-2/
END:VEVENT
END:VCALENDAR