BEGIN:VCALENDAR
VERSION:2.0
PRODID:-//River Valley Church - ECPv4.9.9//NONSGML v1.0//EN
CALSCALE:GREGORIAN
METHOD:PUBLISH
X-WR-CALNAME:River Valley Church
X-ORIGINAL-URL:https://rivervalleycommunitychurch.ca
X-WR-CALDESC:Events for River Valley Church
BEGIN:VTIMEZONE
TZID:UTC
BEGIN:STANDARD
TZOFFSETFROM:+0000
TZOFFSETTO:+0000
TZNAME:UTC
DTSTART:20220101T000000
END:STANDARD
END:VTIMEZONE
BEGIN:VEVENT
DTSTART;TZID=UTC:20220807T103000
DTEND;TZID=UTC:20220807T120000
DTSTAMP:20260424T032312
CREATED:20220414T155502Z
LAST-MODIFIED:20220722T154643Z
UID:7037-1659868200-1659873600@rivervalleycommunitychurch.ca
SUMMARY:Sunday Worship Service - 10:30 AM
DESCRIPTION:Join us for Sunday Worship Service @ 10:30am \nThere will be a FREE BBQ Lunch immediately following the service. EVERYONE WELCOME! \nOur Sunday Worship Service will also be available online on our Facebook page. \nNote: If you do not have Facebook we will post the link next week for you to view.  \n  \n  \n
URL:https://rivervalleycommunitychurch.ca/event/sunday-worship-service-online-2-2-2-2-2-2-2-2-2-2-2-2-2-2-2-2-2-2-2-2-2-3-2-2-2-2-2-2-2-2-2-3-2-2-2-2-2-2-2-2-2-2-2-2-2-2-2-2-2-2-2-2-2-2-3-2-2-3-2-2-2-2-2-2-2-2-2-2-2-2-2-2-2-2-2-2-2-2-2-2-3-2-2-2-16/
ATTACH;FMTTYPE=image/png:https://rivervalleycommunitychurch.ca/wp-content/uploads/2022/07/BBQ-Lunch-Aug-7.png
END:VEVENT
END:VCALENDAR