BEGIN:VCALENDAR
VERSION:2.0
PRODID:-//River Valley Church - ECPv4.9.9//NONSGML v1.0//EN
CALSCALE:GREGORIAN
METHOD:PUBLISH
X-WR-CALNAME:River Valley Church
X-ORIGINAL-URL:https://rivervalleycommunitychurch.ca
X-WR-CALDESC:Events for River Valley Church
BEGIN:VTIMEZONE
TZID:UTC
BEGIN:STANDARD
TZOFFSETFROM:+0000
TZOFFSETTO:+0000
TZNAME:UTC
DTSTART:20200101T000000
END:STANDARD
END:VTIMEZONE
BEGIN:VEVENT
DTSTART;TZID=UTC:20200920T103000
DTEND;TZID=UTC:20200920T113000
DTSTAMP:20260421T144759
CREATED:20200825T175330Z
LAST-MODIFIED:20200922T194002Z
UID:5980-1600597800-1600601400@rivervalleycommunitychurch.ca
SUMMARY:Sunday Worship Service - 10:30 AM
DESCRIPTION:Join us for Sunday Worship Service @ 10:30am \nClick here to view this online service. \n  \n  \n
URL:https://rivervalleycommunitychurch.ca/event/sunday-worship-service-online-2-2-2-2-2-2-2-2-2-2-2-2-2-2-2-2-2-2-2-2-2-3/
END:VEVENT
END:VCALENDAR