BEGIN:VCALENDAR
VERSION:2.0
PRODID:-//River Valley Church - ECPv4.9.9//NONSGML v1.0//EN
CALSCALE:GREGORIAN
METHOD:PUBLISH
X-WR-CALNAME:River Valley Church
X-ORIGINAL-URL:https://rivervalleycommunitychurch.ca
X-WR-CALDESC:Events for River Valley Church
BEGIN:VTIMEZONE
TZID:UTC
BEGIN:STANDARD
TZOFFSETFROM:+0000
TZOFFSETTO:+0000
TZNAME:UTC
DTSTART:20250101T000000
END:STANDARD
END:VTIMEZONE
BEGIN:VEVENT
DTSTART;TZID=UTC:20251107T180000
DTEND;TZID=UTC:20251107T210000
DTSTAMP:20260422T121154
CREATED:20251010T153004Z
LAST-MODIFIED:20251010T153004Z
UID:9781-1762538400-1762549200@rivervalleycommunitychurch.ca
SUMMARY:Waging War for Inner Healing Conference
DESCRIPTION:Everyone Welcome! \nDiscover the Biblical principles of “binding” and “loosing” to release the power of prayer and forgiveness to battle for healing from trauma\, anxiety and addition. \n
URL:https://rivervalleycommunitychurch.ca/event/waging-war-for-inner-healing-conference/
ATTACH;FMTTYPE=image/png:https://rivervalleycommunitychurch.ca/wp-content/uploads/2025/10/Healing-Conference.png
END:VEVENT
END:VCALENDAR