BEGIN:VCALENDAR
VERSION:2.0
PRODID:-//River Valley Church - ECPv4.9.9//NONSGML v1.0//EN
CALSCALE:GREGORIAN
METHOD:PUBLISH
X-WR-CALNAME:River Valley Church
X-ORIGINAL-URL:https://rivervalleycommunitychurch.ca
X-WR-CALDESC:Events for River Valley Church
BEGIN:VTIMEZONE
TZID:UTC
BEGIN:STANDARD
TZOFFSETFROM:+0000
TZOFFSETTO:+0000
TZNAME:UTC
DTSTART:20230101T000000
END:STANDARD
END:VTIMEZONE
BEGIN:VEVENT
DTSTART;TZID=UTC:20231115T190000
DTEND;TZID=UTC:20231115T203000
DTSTAMP:20260423T070558
CREATED:20231107T165829Z
LAST-MODIFIED:20231107T165832Z
UID:8343-1700074800-1700080200@rivervalleycommunitychurch.ca
SUMMARY:Prayer Meeting
DESCRIPTION:Join us in the Edge as we prayer for our Lead Pastor Mark Borrows as travels with World Compassion. \n
URL:https://rivervalleycommunitychurch.ca/event/prayer-meeting-8-2/
END:VEVENT
END:VCALENDAR