BEGIN:VCALENDAR
VERSION:2.0
PRODID:-//River Valley Church - ECPv4.9.9//NONSGML v1.0//EN
CALSCALE:GREGORIAN
METHOD:PUBLISH
X-WR-CALNAME:River Valley Church
X-ORIGINAL-URL:https://rivervalleycommunitychurch.ca
X-WR-CALDESC:Events for River Valley Church
BEGIN:VTIMEZONE
TZID:UTC
BEGIN:STANDARD
TZOFFSETFROM:+0000
TZOFFSETTO:+0000
TZNAME:UTC
DTSTART:20220101T000000
END:STANDARD
END:VTIMEZONE
BEGIN:VEVENT
DTSTART;TZID=UTC:20220819T140000
DTEND;TZID=UTC:20220819T190000
DTSTAMP:20260425T123702
CREATED:20220708T152902Z
LAST-MODIFIED:20220816T190357Z
UID:7192-1660917600-1660935600@rivervalleycommunitychurch.ca
SUMMARY:Young @ Heart - Picnic in the Park POSTPONED
DESCRIPTION:THIS EVENT IS POSTPONED DUE TO EXTREME HEAT. Will be rescheduled in the near future. \nKin Coulee Kitchen across the creek from the baseball diamond. \nCOST: $8 per person \nMust sign up at Guest Services or at the Church Office. \nBring a lawn chair\, cup and games. \n  \n
URL:https://rivervalleycommunitychurch.ca/event/young-heart-picnic-in-the-park/
CATEGORIES:Seniors 50+
ATTACH;FMTTYPE=image/png:https://rivervalleycommunitychurch.ca/wp-content/uploads/2022/07/Young-at-Heart-Picnic-in-the-Park.png
END:VEVENT
END:VCALENDAR