BEGIN:VCALENDAR
VERSION:2.0
PRODID:-//River Valley Church - ECPv4.9.9//NONSGML v1.0//EN
CALSCALE:GREGORIAN
METHOD:PUBLISH
X-WR-CALNAME:River Valley Church
X-ORIGINAL-URL:https://rivervalleycommunitychurch.ca
X-WR-CALDESC:Events for River Valley Church
BEGIN:VTIMEZONE
TZID:UTC
BEGIN:STANDARD
TZOFFSETFROM:+0000
TZOFFSETTO:+0000
TZNAME:UTC
DTSTART:20220101T000000
END:STANDARD
END:VTIMEZONE
BEGIN:VEVENT
DTSTART;TZID=UTC:20220916T150000
DTEND;TZID=UTC:20220916T180000
DTSTAMP:20260425T111710
CREATED:20220825T165704Z
LAST-MODIFIED:20220825T165843Z
UID:7270-1663340400-1663351200@rivervalleycommunitychurch.ca
SUMMARY:Young at Heart (55+) Hymn Sing and Pizza
DESCRIPTION: \n
URL:https://rivervalleycommunitychurch.ca/event/young-at-heart-55-hymn-sing-and-pizza/
CATEGORIES:Seniors 50+
ATTACH;FMTTYPE=image/png:https://rivervalleycommunitychurch.ca/wp-content/uploads/2022/08/Hymn-Sing-and-Pizza.png
END:VEVENT
END:VCALENDAR