BEGIN:VCALENDAR
VERSION:2.0
PRODID:-//River Valley Church - ECPv4.9.9//NONSGML v1.0//EN
CALSCALE:GREGORIAN
METHOD:PUBLISH
X-WR-CALNAME:River Valley Church
X-ORIGINAL-URL:https://rivervalleycommunitychurch.ca
X-WR-CALDESC:Events for River Valley Church
BEGIN:VTIMEZONE
TZID:UTC
BEGIN:STANDARD
TZOFFSETFROM:+0000
TZOFFSETTO:+0000
TZNAME:UTC
DTSTART:20230101T000000
END:STANDARD
END:VTIMEZONE
BEGIN:VEVENT
DTSTART;TZID=UTC:20230922T133000
DTEND;TZID=UTC:20230922T163000
DTSTAMP:20260424T141639
CREATED:20230914T162814Z
LAST-MODIFIED:20230914T162814Z
UID:8175-1695389400-1695400200@rivervalleycommunitychurch.ca
SUMMARY:Young at Heart 55+ Movie Afternoon
DESCRIPTION:Join us in the Edge to watch a movie from the “God’s Not Dead” series. Doors open at 1:30 PM. Movie starts at 2 PM. \n
URL:https://rivervalleycommunitychurch.ca/event/young-at-heart-55-movie-afternoon/
CATEGORIES:Seniors 50+
END:VEVENT
END:VCALENDAR