BEGIN:VCALENDAR
VERSION:2.0
PRODID:-//River Valley Church - ECPv4.9.9//NONSGML v1.0//EN
CALSCALE:GREGORIAN
METHOD:PUBLISH
X-WR-CALNAME:River Valley Church
X-ORIGINAL-URL:https://rivervalleycommunitychurch.ca
X-WR-CALDESC:Events for River Valley Church
BEGIN:VTIMEZONE
TZID:UTC
BEGIN:STANDARD
TZOFFSETFROM:+0000
TZOFFSETTO:+0000
TZNAME:UTC
DTSTART:20240101T000000
END:STANDARD
END:VTIMEZONE
BEGIN:VEVENT
DTSTART;TZID=UTC:20241129T150000
DTEND;TZID=UTC:20241129T193000
DTSTAMP:20260421T143523
CREATED:20241029T172306Z
LAST-MODIFIED:20241029T172306Z
UID:9037-1732892400-1732908600@rivervalleycommunitychurch.ca
SUMMARY:Young @ Heart 55+ - Christmas Concert & Banquet
DESCRIPTION:Join us at 3 PM for a FREE Concert featuring the Wurtz Family. \nFollowing the concert we will have a Christmas Banquet – $25 ticket MUST BE PURCHASED (prior to Nov. 24) to stay for the Banquet \nTickets available at Guest Services on Sundays or during the week at the Church Office. \n
URL:https://rivervalleycommunitychurch.ca/event/young-heart-55-christmas-concert-banquet/
CATEGORIES:Seniors 50+
END:VEVENT
END:VCALENDAR