BEGIN:VCALENDAR
VERSION:2.0
PRODID:-//River Valley Church - ECPv4.9.9//NONSGML v1.0//EN
CALSCALE:GREGORIAN
METHOD:PUBLISH
X-WR-CALNAME:River Valley Church
X-ORIGINAL-URL:https://rivervalleycommunitychurch.ca
X-WR-CALDESC:Events for River Valley Church
BEGIN:VTIMEZONE
TZID:UTC
BEGIN:STANDARD
TZOFFSETFROM:+0000
TZOFFSETTO:+0000
TZNAME:UTC
DTSTART:20250101T000000
END:STANDARD
END:VTIMEZONE
BEGIN:VEVENT
DTSTART;TZID=UTC:20251017T080000
DTEND;TZID=UTC:20251017T170000
DTSTAMP:20260422T121745
CREATED:20250819T172510Z
LAST-MODIFIED:20250819T172510Z
UID:9645-1760688000-1760720400@rivervalleycommunitychurch.ca
SUMMARY:NO RVCC Youth
DESCRIPTION:
URL:https://rivervalleycommunitychurch.ca/event/no-rvcc-youth-5/
CATEGORIES:Youth Grades 7-12
END:VEVENT
END:VCALENDAR